Workbook

Sheet Read Me
A1: TIPS FOR TECHNICAL COMMITTEE CHAIRS AND OTHERS WHO WILL BE CONSIDERING SPONSORING ORGANIZATION COMMENTS
A3: This spreadsheet format was created to make it easier for you to absorb a large number of comments and to spend your time and energy on carefully considering the comments.
A5: The Vote tab summarizes the vote on each Technical Committee Recommendation. This info provides an overview on how favorably an item was viewed by sponsoring organizations.
A6: For each Technical Committee Recommendation, comments have been sorted, as follows.
A7: The votes by each individual appear in the first instance of a comment from that person.
A8: General comments appear in the upper portion of the spreadsheet. These are comments that the commenter did not relate to a particular line in the Technical Committee Recommendation.
A9: Comments related to a particular line in the Technical Committee Recommendation appear next, and these comments are sorted according to the starting line number.
A10: When using line numbers in the comments, be sure that you refer to the version of the Technical Committee Recommendation that was circulated to the sponsoring organizations.
A11: Simple concurrence votes without comments are grouped at the bottom of each sheet.
A12: If you choose do your own sort, do so on a copy of the spreadsheet, not the original. Always select all columns before sorting.
A14: If you have ideas, feedback, or suggestions for improvements, please forward them to NCUTCD at
A15: secretary@ncutcd.org

Sheet Vote
A1: SUMMARY OF VOTE BY COMMENTERS
C2: AASHTO States | F2: ITE Reviewers | I2: Other Sponsoring Organizations | L2: Combined
B3: Total number of comments received | C3: Fully Concur | D3: Concur in Part | E3: Do Not Concur | F3: Fully Concur | G3: Concur in Part | H3: Do Not Concur | I3: Fully Concur | J3: Concur in Part | K3: Do Not Concur | L3: Fully Concur | M3: Concur in Part | N3: Do Not Concur | O3: From Sheets
A4: 26B-BIK-01 | B4: ='26B-BIK-01'!L203 -> 110 | C4: 19 | D4: 12 | E4: 3 | F4: 21 | G4: 6 | H4: 3 | I4: =O4-C4-F4 -> 15 | J4: =P4-D4-G4 -> 10 | K4: =Q4-E4-H4 -> 2 | L4: =C4+F4+I4 -> 55 | M4: =D4+G4+J4 -> 28 | N4: =E4+H4+K4 -> 8 | O4: ='26B-BIK-01'!E$202 -> 55 | P4: ='26B-BIK-01'!F$202 -> 28 | Q4: ='26B-BIK-01'!G$202 -> 8
A5: 26B-EDT-01 | B5: ='26B-EDT-01'!L303 -> 222 | C5: 17 | D5: 15 | E5: 2 | F5: 18 | G5: 11 | H5: 2 | I5: =O5-C5-F5 -> 10 | J5: =P5-D5-G5 -> 13 | K5: =Q5-E5-H5 -> 0 | L5: =C5+F5+I5 -> 45 | M5: =D5+G5+J5 -> 39 | N5: =E5+H5+K5 -> 4 | O5: ='26B-EDT-01'!E$302 -> 45 | P5: ='26B-EDT-01'!F$302 -> 39 | Q5: ='26B-EDT-01'!G$302 -> 4
A6: 26B-GMI-01 | B6: ='26B-GMI-01'!L153 -> 33 | C6: 27 | D6: 5 | E6: 1 | F6: 25 | G6: 5 | H6: 1 | I6: =O6-C6-F6 -> 15 | J6: =P6-D6-G6 -> 4 | K6: =Q6-E6-H6 -> 1 | L6: =C6+F6+I6 -> 67 | M6: =D6+G6+J6 -> 14 | N6: =E6+H6+K6 -> 3 | O6: ='26B-GMI-01'!E$152 -> 67 | P6: ='26B-GMI-01'!F$152 -> 14 | Q6: ='26B-GMI-01'!G$152 -> 3
A7: 26B-GMI-02 | B7: ='26B-GMI-02'!L153 -> 49 | C7: 26 | D7: 5 | E7: 1 | F7: 19 | G7: 12 | H7: 0 | I7: =O7-C7-F7 -> 15 | J7: =P7-D7-G7 -> 6 | K7: =Q7-E7-H7 -> 1 | L7: =C7+F7+I7 -> 60 | M7: =D7+G7+J7 -> 23 | N7: =E7+H7+K7 -> 2 | O7: ='26B-GMI-02'!E$152 -> 60 | P7: ='26B-GMI-02'!F$152 -> 23 | Q7: ='26B-GMI-02'!G$152 -> 2
A8: 26B-GMI-03 | B8: ='26B-GMI-03'!L103 -> 25 | C8: 28 | D8: 4 | E8: 1 | F8: 21 | G8: 9 | H8: 0 | I8: =O8-C8-F8 -> 18 | J8: =P8-D8-G8 -> 3 | K8: =Q8-E8-H8 -> 0 | L8: =C8+F8+I8 -> 67 | M8: =D8+G8+J8 -> 16 | N8: =E8+H8+K8 -> 1 | O8: ='26B-GMI-03'!E$102 -> 67 | P8: ='26B-GMI-03'!F$102 -> 16 | Q8: ='26B-GMI-03'!G$102 -> 1
A9: 26B-PED-01 | B9: ='26B-PED-01'!L153 -> 51 | C9: 18 | D9: 9 | E9: 8 | F9: 25 | G9: 4 | H9: 1 | I9: =O9-C9-F9 -> 20 | J9: =P9-D9-G9 -> 5 | K9: =Q9-E9-H9 -> 2 | L9: =C9+F9+I9 -> 63 | M9: =D9+G9+J9 -> 18 | N9: =E9+H9+K9 -> 11 | O9: ='26B-PED-01'!E$152 -> 63 | P9: ='26B-PED-01'!F$152 -> 18 | Q9: ='26B-PED-01'!G$152 -> 11
A10: 26B-PED-02 | B10: ='26B-PED-02'!L153 -> 74 | C10: 21 | D10: 13 | E10: 0 | F10: 17 | G10: 12 | H10: 2 | I10: =O10-C10-F10 -> 11 | J10: =P10-D10-G10 -> 14 | K10: =Q10-E10-H10 -> 0 | L10: =C10+F10+I10 -> 49 | M10: =D10+G10+J10 -> 39 | N10: =E10+H10+K10 -> 2 | O10: ='26B-PED-02'!E$152 -> 49 | P10: ='26B-PED-02'!F$152 -> 39 | Q10: ='26B-PED-02'!G$152 -> 2
A11: 26B-RR-01 | B11: ='26B-RR-01'!L103 -> 28 | C11: 25 | D11: 5 | E11: 1 | F11: 26 | G11: 5 | H11: 0 | I11: =O11-C11-F11 -> 15 | J11: =P11-D11-G11 -> 7 | K11: =Q11-E11-H11 -> 0 | L11: =C11+F11+I11 -> 66 | M11: =D11+G11+J11 -> 17 | N11: =E11+H11+K11 -> 1 | O11: ='26B-RR-01'!E$102 -> 66 | P11: ='26B-RR-01'!F$102 -> 17 | Q11: ='26B-RR-01'!G$102 -> 1
A12: 26B-RR-02 | B12: ='26B-RR-02'!L153 -> 45 | C12: 18 | D12: 12 | E12: 2 | F12: 24 | G12: 7 | H12: 0 | I12: =O12-C12-F12 -> 18 | J12: =P12-D12-G12 -> 5 | K12: =Q12-E12-H12 -> 0 | L12: =C12+F12+I12 -> 60 | M12: =D12+G12+J12 -> 24 | N12: =E12+H12+K12 -> 2 | O12: ='26B-RR-02'!E$152 -> 60 | P12: ='26B-RR-02'!F$152 -> 24 | Q12: ='26B-RR-02'!G$152 -> 2
A13: 26B-RW-01 | B13: ='26B-RW-01'!L153 -> 51 | C13: 20 | D13: 10 | E13: 3 | F13: 20 | G13: 7 | H13: 4 | I13: =O13-C13-F13 -> 19 | J13: =P13-D13-G13 -> 4 | K13: =Q13-E13-H13 -> 0 | L13: =C13+F13+I13 -> 59 | M13: =D13+G13+J13 -> 21 | N13: =E13+H13+K13 -> 7 | O13: ='26B-RW-01'!E$152 -> 59 | P13: ='26B-RW-01'!F$152 -> 21 | Q13: ='26B-RW-01'!G$152 -> 7
A14: 26B-RW-02 | B14: ='26B-RW-02'!L153 -> 42 | C14: 28 | D14: 3 | E14: 2 | F14: 25 | G14: 5 | H14: 1 | I14: =O14-C14-F14 -> 15 | J14: =P14-D14-G14 -> 4 | K14: =Q14-E14-H14 -> 3 | L14: =C14+F14+I14 -> 68 | M14: =D14+G14+J14 -> 12 | N14: =E14+H14+K14 -> 6 | O14: ='26B-RW-02'!E$152 -> 68 | P14: ='26B-RW-02'!F$152 -> 12 | Q14: ='26B-RW-02'!G$152 -> 6
A15: 26B-SIG-01 | B15: ='26B-SIG-01'!L203 -> 119 | C15: 19 | D15: 13 | E15: 4 | F15: 20 | G15: 7 | H15: 4 | I15: =O15-C15-F15 -> 12 | J15: =P15-D15-G15 -> 6 | K15: =Q15-E15-H15 -> 5 | L15: =C15+F15+I15 -> 51 | M15: =D15+G15+J15 -> 26 | N15: =E15+H15+K15 -> 13 | O15: ='26B-SIG-01'!E$202 -> 51 | P15: ='26B-SIG-01'!F$202 -> 26 | Q15: ='26B-SIG-01'!G$202 -> 13
A16: 26B-TTC-01 | B16: ='26B-TTC-01'!L303 -> 234 | C16: 17 | D16: 14 | E16: 1 | F16: 17 | G16: 14 | H16: 0 | I16: =O16-C16-F16 -> 8 | J16: =P16-D16-G16 -> 12 | K16: =Q16-E16-H16 -> 2 | L16: =C16+F16+I16 -> 42 | M16: =D16+G16+J16 -> 40 | N16: =E16+H16+K16 -> 3 | O16: ='26B-TTC-01'!E$302 -> 42 | P16: ='26B-TTC-01'!F$302 -> 40 | Q16: ='26B-TTC-01'!G$302 -> 3
A17: 26B-TTC-02 | B17: ='26B-TTC-02'!L203 -> 137 | C17: 19 | D17: 9 | E17: 4 | F17: 22 | G17: 7 | H17: 1 | I17: =O17-C17-F17 -> 12 | J17: =P17-D17-G17 -> 7 | K17: =Q17-E17-H17 -> 1 | L17: =C17+F17+I17 -> 53 | M17: =D17+G17+J17 -> 23 | N17: =E17+H17+K17 -> 6 | O17: ='26B-TTC-02'!E$202 -> 53 | P17: ='26B-TTC-02'!F$202 -> 23 | Q17: ='26B-TTC-02'!G$202 -> 6
A19: Totals | B19: =SUM(B4:B17) -> 1220 | C19: =SUM(C4:C17) -> 302 | D19: =SUM(D4:D17) -> 129 | E19: =SUM(E4:E17) -> 33 | F19: =SUM(F4:F17) -> 300 | G19: =SUM(G4:G17) -> 111 | H19: =SUM(H4:H17) -> 19 | I19: =SUM(I4:I17) -> 203 | ... N19: =SUM(N4:N17) -> 69
C20: Blank concur/partial/not votes were evaluated and classified by content.
B21: Multiple comments on an item by the same commenter counted as separate comments. | C21: 29 states responding. Some states had multiple reviewers. Not all states voted on all recommendations. | F21: 31 individuals responding. Some individuals did not vote on all recommendations. | I21: 35 individuals from 13 sponsoring organizations responding. Some individuals did not vote on all recommendations.
J22: AAR | K22: 1 person
J23: AHUA | K23: 2 persons
J24: APBP | K24: 3 persons
J25: ARTBA | K25: 1 person
J26: ASCE | K26: 10 persons
J27: ATSSA | K27: 1 person
J28: HFR | K28: 1 person
J29: IBTTA | K29: 2 persons
J30: IMSA | K30: 1 person
J31: ITSA | K31: 1 person
J32: LAB | K32: 1 person
J33: NACTO | K33: 8 persons
J34: NACE | K34: 3 persons

Sheet 26B-BIK-01
A1: A | B1: B | C1: C | D1: D | E1: E | F1: F | G1: G | H1: H | I1: I | J1: J | K1: K | L1: L | M1: M
H2: If Concur in Part, or Do Not Concur, please identify the line number(s), Table Number, or Figure Number and enter comment
A3: ID of Technical Committee Recommendation | B3: Name of Sponsoring Organization | C3: If from AASHTO, name of responding state | D3: Name of responding individual | E3: Fully Concur | F3: Concur in Part | G3: Do Not Concur | H3: Line Number start | I3: Line Number end | J3: Figure Number | K3: Table Number | L3: Comment | M3: TC / JTF Disposition of Comment
A6: 26B-BIK-01 | B6: AASHTO | C6: Idaho | D6: Ryan Lancaster | G6: X | H6: General | L6: General: I question the need for going from specific bicycle signal signs (R10-40 and R10-41 series) to one very general bicycle signal sign (R10-42) that FHWA chose not to include in the 11th Edition. 1) Perhaps FHWA tried out the R10-42 sign in IA-16 and later decided it wasn't needed. And perhaps FHWA didn't perpetuate the sign because it doesn't direct the user to take any action and has provides no additonal information that isn't already communicated through the bicycle signal face.
A7: 26B-BIK-01 | B7: AASHTO | C7: Louisiana | D7: Jody Colvin | F7: X | H7: General | L7: Reccomend doing a study on the signs
A8: 26B-BIK-01 | B8: AASHTO | C8: Minnesota | D8: Brian Sorenson | F8: X | H8: General | L8: Recommend providing a reduced‑height option for placement above or below a bicycle signal face.
A9: 26B-BIK-01 | B9: AASHTO | C9: Ohio | D9: Jonathan Young | F9: X | H9: General | L9: Partially concur. There are times that the movement would be beneficial for complex movements however, there are times like bike boxes that the signage and operation create conflict of the allowable movement. The current signage also does not cover the movement around situations of a bike lane exiting the roadway and continueing on a shared use path or other facility.
A10: 26B-BIK-01 | B10: AASHTO | C10: Wyoming | D10: Lee Roadifer | G10: X | H10: General | L10: This issue essentially comes down to bicyclists requesting special considerations while also expecting the freedom to operate without restrictions.
A11: 26B-BIK-01 | B11: AHUA | D11: Randy Dittberner | G11: X | H11: General | L11: I agree that the existing MUTCD content creates ambiguity. However, even if this proposed change is incorporated, a bicyclist still won't know whether a particular movement controlled by a bicycle signal is protected or permissive. The situation depicted in the figure on page 2 would continue to be ambiguous, because the same signal display and the same sign would be used for both conditions. Has the BTC considered any options that would allow bicyclists to discern from the bicycle signal indication (or another TCD) whether a movement is protected or permissive? This is a key function of signal faces for motorists and its absence for bicycle signal faces is a key weakness.
A12: 26B-BIK-01 | B12: AHUA | D12: Randy Dittberner | H12: General | L12: IA-16 allowed green and yellow arrow indications to be used with bicycle signal faces, but this provision is not included in the 11th Edition. Since this proposal would remove the movements from the regulatory signs, should the proposal also revert back to the configuration in IA-16, where arrow indications are allowed in bicycle signal faces to communicate protected movements?
A13: 26B-BIK-01 | B13: AHUA | D13: Randy Dittberner | H13: General | L13: Another weakness in the MUTCD is that there are no figures showing how bicycle signal faces are used in context, in conjunction with other signal faces, pavement markings, and signs. It might be helpful, as part of this proposal or another future proposal, to show some examples of various situations (such as those in the figures on pages 2 and 3) and how the signal faces and other TCDs are supposed to be arranged. This proposal would create a increased need for some figures of this type, because the movements that the MUTCD currently shows on the R10-40 and 41 series signs would need to be communicated using other TCD(s).
A14: 26B-BIK-01 | B14: ASCE | D14: Bob Bryson | G14: X | H14: General | L14: The inclusion of the sign in the interim approval of the bicycle signal (proposed R10-42 sign) does not justify the change proposed. The content and requirements of the Bicycle Signal Section of Part 4 approved by National Committee substantially changed the application of bicycle signals defined in the interim approval. When considering this proposed change, it should be noted that arrow signal indications are not available for bicycle signals, and the R10-40 sign series does provide the option to serve as a surrogate for bicycle arrow signals. So these signs and their application in Part 4H do need to be retained.
A15: 26B-BIK-01 | B15: ITE | D15: John E. Fisher | G15: X | H15: General | L15: 1. Lines 46-51 present an argument that the deletion of the proposed signs is justified because they confuse bicyclists regarding protected versus permitted bicycle movements. However, this should not be considered to be an issue at all since bicyclists on a road are considered to be a vehicle and must yield to pedestrians lawfully in a crosswalk. This has always been the case and the signs proposed for deletion do not indicate otherwise. Further, bicyclists cannot be in conflict with motor vehicles as clearly stated in Section 4H.01, Paragraph 09. Again, the signs proposed for deletion do not indicate otherwise. These signs do not present conflicts and should be retained.
A16: 26B-BIK-01 | B16: ITE | D16: John E. Fisher | H16: General | L16: 2. It is acknowledged that most conventional bike lanes that operate in the right hand lane (and that can only make a thru or right turn movement) would find the proposed R10-42 sign to be sufficient. However, there are many novel applications of bicycle lanes where a right hand bicycle lane may also turn left or may also turn left and proceed thru. In these situations, the R10-41a or R10-41b would identify the novel legal movements for bicyclists. Deleting these signs, as proposed, offers no way to give bicyclists this information. I raised this issue in several Committees without satisfactory responses.
A17: 26B-BIK-01 | B17: ITE | D17: John E. Fisher | H17: General | L17: 3. The proposal should be rewritten to mandate use of the R10-42 sign for conventional situations and mandate the existing signs for movements that would not otherwise be legal.
A18: 26B-BIK-01 | B18: ITE | D18: Zoubir Ouadah | G18: X | H18: General | L18: Do not agree with the deletion of the R10-40 and R10-40a. An example of the need to use the R10-40a is in a signalized freeway ramp intersection with a bicycle signal. In this case, the bike signal face should have an R10-40a to make sure bicyclists do not turn left or right onto the on-ramp.However, motorists are allowed to turn left or right onto the on-ramp to enter the freeway. This proposal should focuse on putting back the R10-42 into the manual and keep the R10-40 and 41 family as part of the manual so a public agency have the option to select the appropriate sign for the condition.
A19: 26B-BIK-01 | B19: AASHTO | C19: New Hampshire | D19: William Lambert | E19: X | H19: 22 | I19: 34 | L19: Without commenting on the merit of the content, I concur that the MUTCD should not include material that was not included in the NPR and therefore not subject to public comment. If true that the new signs were have not received experimentation or testing, that is further reason not to include in the MUTCD. Material from the initial Interim Approval has previously been in the public arena and therefore open to comment.
A20: 26B-BIK-01 | B20: AASHTO | C20: Idaho | D20: Ryan Lancaster | H20: 23 | I20: 26 | L20: Dating back to at least the 2003 MUTCD, the R10-10 sign is designated "Left (Right) Turn Signal." It appears the R10-10 sign referenced in the proposal was the R10-10b sign introduced in Interim Approval 16.
A21: 26B-BIK-01 | B21: ITE | D21: Stephen Lewis | F21: X | H21: 24 | I21: 24 | L21: The proposal refers to the IA-16 sign as the R10-10 Bicycle Signal sign. IA-16 identifies the adjacent regulatory sign as the Bicycle SIGNAL (R10-10b) sign. Recommend changing to “R10-10b,” or explain why the proposal uses “R10-10” and redesignates the sign as R10-42. The comment also applies to lines 31, 40, 60, and 78.
A22: 26B-BIK-01 | B22: AASHTO | C22: Illinois | D22: Kristie Nyderek | G22: X | H22: 24 | L22: Change R10-10 to R10-10b. R10-10 is LEFT[RIGHT] TURN SIGNAL.
A23: 26B-BIK-01 | B23: ITE | D23: Stephen Lewis | H23: 31 | I23: 33 | L23: Recommend adding that the movement-specific sign concept appeared in the December 2020 NPA. This distinction is important because the signs were exposed through notice-and-comment rulemaking even though they were not included in the earlier IA-16 experimentation.
A24: 26B-BIK-01 | B24: ITE | D24: Stephen Lewis | H24: 31 | I24: 33 | L24: Recommend replacing the categorical statement that the signs “have not received experimentation or testing.” Replace it with wording such as: “The R10-40 and R10-41 series signs were not included in IA-16 or in the bicycle signal-face experiments cited by that approval. National Committee has not identified experimentation or human-factors testing specifically evaluating road-user comprehension of these movement-specific sign designs."
A25: 26B-BIK-01 | B25: AHUA | D25: Jonathan Upchurch | F25: X | H25: 40 | I25: 40 | L25: Suggest changing "bike signal" to "BICYCLE SIGNAL"
A26: 26B-BIK-01 | B26: ITE | D26: Amitai Lipton | G26: X | H26: 43 | I26: 44 | L26: The statement "without making it clear to the user whether such movements are protected or permissive" is a bit unclear -- bicycle signal phases are protected (regarding motor vehicle movements) per 4H.01.09. Signal phases controlling motor vehicles are already ambiguous in relation to pedestrian movements, which can be concurrent or exclusive, with or without signal indications, so a road user including someone riding a bicycle should be aware of this potential conflict when turning left or right. Another possible solution could be to add an arrow signal indication (either steady green arrow or flashing yellow arrow) to the side of the bike symbol indication, like the example image in the next row:
A27: 26B-BIK-01 | B27: ITE | D27: Amitai Lipton | H27: 43 | I27: 44 | L27: [image of 5-section signal face with red, yellow, and green bicycle indications, yellow flashing arrow, and green arrow]
A28: 26B-BIK-01 | B28: AHUA | D28: Jonathan Upchurch | H28: 47 | I28: 48 | L28: The text is mixing and matching the use of "exclusive" and "protected". The MUTCD term is "protected" (and not exclusive". "exclusive" should be changed to "protected".
A29: 26B-BIK-01 | B29: AHUA | D29: Jonathan Upchurch | H29: 53 | I29: 53 | L29: The sign is not a part of the bicycle signal face. Rewrite to change from "as a part of" to "in conjunction with"
A30: 26B-BIK-01 | B30: ITE | D30: Amitai Lipton | H30: 57 | I30: 66 | L30: The old R10-10 / proposed R10-42 also has an ambiguous meaning for road users: It does not provide any information to people using bicycles on which movements are allowable, whether a movement is protected or permitted, etc. The existing R10-40/41 signs are promising in that they make it explicit which movements are possible from the bike lane. I would strongly suggest withdrawing the proposal as written, and introducing a new proposal that reduces ambiguity and provides clearer information to road users. Perhaps a variant of the existing R10-40/41 signs that combines a bike symbol with a turn prohibition symbol (similar to an R3-1b sign).
A31: 26B-BIK-01 | B31: AASHTO | C31: Idaho | D31: Ryan Lancaster | H31: 57 | I31: 81 | L31: The discussion stating that bicycle users encountering the R10-41 sign will be prohibited from using a two-stage bicycle turn box seems ridiculous and implies that bicycle users won't be able to figure it out. It seems that any conflict between these traffic control devices is overstated.
A32: 26B-BIK-01 | B32: NACTO | D32: Elijah Ferrari | H32: 67 | L32: Edit comment: For the figure, I suggest using callout boxes for the blue lines for clarity of the movement
A33: 26B-BIK-01 | B33: AHUA | D33: Jonathan Upchurch | H33: 72 | I33: 72 | L33: The MUTCD defined term is "bicycle symbol signal indication". Suggest changing "bicycle signal indication" to "bicycle symbol signal indication".
A34: 26B-BIK-01 | B34: AASHTO | C34: Illinois | D34: Kristie Nyderek | H34: 78 | L34: Change R10-10 to R10-10b. R10-10 is LEFT[RIGHT] TURN SIGNAL.
A35: 26B-BIK-01 | B35: ITE | D35: Stephen Lewis | H35: 119 | I35: 166 | L35: Resolve the two-stage bicycle turn-box issue directly in Section 4A.05. The proposed deletion of the requirement to proceed only in the directions shown on the adjacent sign generally addresses the concern described at Lines 83 through 95. However, the revised text should expressly clarify that a bicyclist may enter the intersection to complete the first stage of a lawful or required two-stage turn when authorized by the applicable signal indication and other traffic-control devices.
A36: 26B-BIK-01 | B36: AASHTO | C36: Illinois | D36: Kristie Nyderek | H36: 120 | I36: 125 | L36: rather than delete lines 120-122, couldn't something like "or to proceed to the Two-State Bicycle Turn Box when required to complete the desired maneuver." at the end of the deleted section?
A37: 26B-BIK-01 | B37: AASHTO | C37: Pennsylvania | D37: Steve Gault | F37: X | H37: 120 | I37: 125 | L37: Since the purpose of a green signal is to indicate what movements are lawful, using the phrase "to proceed in any direction that is lawful and practical" doesn't provide any indication of what direction is lawful and practical.
A38: 26B-BIK-01 | B38: AASHTO | C38: Idaho | D38: Ryan Lancaster | H38: 120 | I38: 126 | L38: I found the similar text in IA 16 in Condition 3.c. A specific reference to the text in the IA will be beneficial.
A39: 26B-BIK-01 | B39: AASHTO | C39: Virginia | D39: Mark Cole | F39: X | H39: 120 | I39: 126 | L39: VDOT does not concur with revising the meaning of a steady GREEN BICYCLE indication to allow travel "in any direction that is lawful and practical…". Virginia enacted bicycle signal legislation in 2026 that permits a person facing a steady green bicycle indication to move "in the direction of the signal, unless otherwise direction by another traffic control device." The proposed MUTCD language could therefore create a different or broader meaning for the indication than established by Virginia law, particularly if the movement-specific R10-40/R10-41 signs are eliminated. "Bicyclists facing a steady GREEN BICYCLE signal indication are permitted to enter the intersection and proceed in the direction controlled by the bicycle signal, except where proceed in any direction that is lawful and practical and provided the bicycle movement is not modified by lane-use signs, turn prohibition signs, pavement markings, separated bicycle signal turn indications, or other traffic control devices."
A40: 26B-BIK-01 | B40: ITE | D40: Roxane Mukai | F40: X | H40: 120 | I40: 126 | L40: Sentence construction is difficult to follow. 1) Who decides what is "practical"?, 2) " and provided the bicyle movement" would probably be clearer if it read "provided THAT bicycle movement" and even clearer if a new sentence were started, 3) why are two types of signs called out when other signs may apply?,4) the last use of "bicycle" in front of signal turn indications seems to imply that bicycles (defined as a vehicle in some states) are only required to comply with bicycle signals and can ignore all other (vehicular) signals. The notation on IA 16 clearly states that the indication cannot be in conflict with simultaneous motor vehicle movements.
A41: 26B-BIK-01 | D41: Roxane Mukai | H41: 120 | I41: 126 | L41: Potential text revised to account for above noted issues. "Bicylists facing a steady GREEN BICYCLE signal indication are permitted to proceed in any direction that is lawful. Bicycyle movement may be permitted or restricted by signs, pavement markings, signals, bicycle signal turn indications, or other traffic control devices."
A42: 26B-BIK-01 | B42: HFR | D42: Erin Kissner | F42: X | H42: 120 | I42: 126 | L42: Consider whether the proposed language sufficiently clarifies which movements are permitted by a steady GREEN BICYCLE indication, particularly with the elimination of the movement-specific R10-40/R10-41 signs. The phrase “any direction that is lawful and practical” could create uncertainty regarding the movements controlled by the bicycle signal and the role of other traffic control devices in determining permitted movements.
...

Sheet 26B-EDT-01
A1: A | B1: B | C1: C | D1: D | E1: E | F1: F | G1: G | H1: H | I1: I | J1: J | K1: K | L1: L | M1: M
H2: If Concur in Part, or Do Not Concur, please identify the line number(s), Table Number, or Figure Number and enter comment
A3: ID of Technical Committee Recommendation | B3: Name of Sponsoring Organization | C3: If from AASHTO, name of responding state | D3: Name of responding individual | E3: Fully Concur | F3: Concur in Part | G3: Do Not Concur | H3: Line Number start | I3: Line Number end | J3: Figure Number | K3: Table Number | L3: Comment | M3: TC / JTF Disposition of Comment
A6: 26B-EDT-01 | B6: AASHTO | C6: Connecticut | D6: Gregory Palmer | G6: X | H6: General | L6: Section changes are confusing. Overall, are these recommended changes even necessary? Sort of seems like it is correcting a problem that doesn't exist. If kept, recommend it be reduced to only the extent necessary. Refer to attached PDF with markups.
A7: 26B-EDT-01 | B7: AASHTO | C7: DC | D7: Zhibo Zhang | F7: X | H7: General | L7: We concur with the proposal that the term "installation" is used thorughout the MUTCD with multiple meanings and would benefit from clarification. However, the proposal frequently substitutes "installation" with the term "use" and appears to refer in various places to both device selection and the presence of a device in service. Consider replacing the term "use" with more specific terminology or clarify the relationship between "use" and the proposed framework to ensure that it does not introduce a new ambiguity.
A8: 26B-EDT-01 | B8: AASHTO | C8: Idaho | D8: Ryan Lancaster | F8: X | H8: General | L8: General: I strongly support the idea of uniform presentation of TCDs in the MUTCD. I also support consistent use of "application" and "installation." I can see that a lot of work went into the creation of this proposed change. I concur with this proposal and offer some comments for further refinement.
A9: 26B-EDT-01 | B9: AASHTO | C9: Iowa | D9: Chris Poole | F9: X | H9: General | L9: This is a significant change that has numerous impacts, so it needs to be done carefully. Unfortunately, definitions of proposed or updated terms overlap each other, and some definitions are circular, using a form of the word that's being defined within that word's definition. I like the seven terms that have been proposed: appearance, meaning, selection, placement, operation, maintenance, and removal. Why aren't those consistent throughout this proposed change? If these terms are recommended to be used in the 12th Edition, why not define all of them in Section 1C.02?
A10: 26B-EDT-01 | B10: AASHTO | C10: Kentucky | D10: Jason Hyatt | F10: X | H10: General | L10: I'll stop pointing these out, but I'm not sure word replacements have been applied uniformly
A11: 26B-EDT-01 | B11: AASHTO | C11: North Carolina | D11: Jennifer Portanova | F11: X | H11: General | L11: I do not have concerns about what is proposed but I am not aware that there was problems with Engineers and Technicians Using the manual because of the use of various words. Installation, Operation, Maintenance, Selection, Placement. The term placement is further confused in this document with adding "mounting".
A12: 26B-EDT-01 | B12: AASHTO | C12: North Carolina | D12: Jennifer Portanova | H12: General | L12: A larger concern is that placing these categories for each traffic control device simply provide additional opportunity for liabilty when a agency or location varies slightly from the prescribed wording.
A13: 26B-EDT-01 | B13: AASHTO | C13: North Carolina | D13: Jennifer Portanova | H13: General | L13: My concerns are lessened as long as the MUTCD recognizes Engineering Judgement. AASHTO and Other Engineer shoudl recall that in 2009, the FHWA removed Engineering Judgement from the manual. One of the very rare times that all 50 states agreed on a significant topic. It took a threat of action from Congress to get Engineering Judgement back into the Manual.
A14: 26B-EDT-01 | B14: AASHTO | C14: Utah | D14: David Bezzant | F14: X | H14: General | L14: General Comment: We support consistent terminology and a clearer distinction between engineering decisions and physical installation. Because the proposal changes terminology throughout the Manual, identify any substitutions that change the scope or timing of an obligation rather than merely clarifying its wording. Verify that requirements for engineering studies, device replacement, and operational changes retain their intended application. Distinguish approval of this terminology framework from approval of a future Manual-wide reorganization.
A15: 26B-EDT-01 | B15: AHUA | D15: Randy Dittberner | F15: X | H15: General | L15: Two new paragraphs using the word "installation" were added to Chapter 3I in 24B-MKG-02, and this proposal should change the word "installation" in these new paragraphs. They are: Sec. 3I.03: "Section 6K.05 contains information for temporary installations of vertical panels." Sec. 3I.04: "Section 6K.11 contains information for installations of temporary lane separators."
A16: 26B-EDT-01 | B16: ITE | D16: Jeffrey Lawrence | G16: X | H16: General | L16: The proposal is a change that is too significant for a revision. Revisions should be corrections and minor changes. Take the time to thoroughly develop this proposal and incorporate into the next edition.
A17: 26B-EDT-01 | B17: NACTO | D17: Elijah Ferrari | E17: X | H17: 44 | I17: 51 | L17: Add that this was presented to all TCs and was well received by the majority of TCs. ANd that this was a core recommendation of the 2014 VSP. I would elaborate and perhaps show one of the TCD section examples shown to the TCs before so Council can understand the scope and benefits of this work. Right now it's not clear what is fully involved. Perhaps this proposal can include an edit of one of the simpler TCD sections like Slippery When Wet or other sign and how a reorganization would look like
A18: 26B-EDT-01 | B18: ITE | D18: Roxane Mukai | G18: X | H18: 53 | I18: 63 | L18: There are 36 uses of "selection" and 1 use of "selections" in the 11th edition. There are 357 uses of "application" and 152 uses of "applications" in the 11th edition. Agree that the easier course of action is removing the 11th edition definition of application and assigning that definition to "selection" then reviewing all 37 uses of the term selection to ensure conformance. This removes the potential 11th edition creation of errors by redefining a term already in use. Since the proposal does not include it - Edit Committee could lead the way in formulating edits by addressing the Section 1D.01 P02 usage of both terms "It is important that these principles be given primary consideration in the selection and application of each device."
A19: 26B-EDT-01 | B19: AASHTO | C19: Virginia | D19: Mark Cole | G19: X | H19: 59 | I19: 63 | L19: VDOT agrees with the overall concept of establishing consistent terminology and organization for traffic control device information but recommends further refinement before finalizing the proposed definitions. In particular, changing the definition of “Application” before reviewing how the term is used throughout the MUTCD could have unintended implications that are not yet apparent. Consider completing the terminology review concurrently with development of the definitions to ensure the proposed definitions work consistently with existing provisions.
A20: 26B-EDT-01 | B20: HFR | D20: Erin Kissner | F20: X | H20: 59 | I20: 63 | L20: The overall concept of the proposal (and future proposals) make sense, but I would recommend reviewing existing uses of “Application” throughout the MUTCD before finalizing the definition to ensure there are no unintended implications.
A21: 26B-EDT-01 | B21: ITE | D21: Amitai Lipton | F21: X | H21: 68 | I21: 72 | L21: I wholeheartedly agree with the intent of this proposal. My comments below reflect general thoughts on refining the meanings and terminology of the proposal, with a few specific notes. The first and third meanings of "installation" are both verbs and are quite similar: affixing a physical item in a specific place. I disagree with the first "meaning" in line 68 -- the use of "installation" in the first and third example texts have the same meaning ("the act of installing a device") and not "determining the proper position of a device." The second meaning is a noun. I concur with limiting the use of the word "installation" to the action of installing a device.
A22: 26B-EDT-01 | B22: ITE | D22: Adam Greenstein | F22: X | H22: 68 | L22: We do not typically refer to a sign and the post together as an "assembly". This is typically used to describe more than one sign face on the same post or structure. The example from Section 2A.11 would not be appropriate as worded "For a post-mounted sign assembly..." if only describing a single sign face and the post. In the context of changing the word "installation", we can simply say "For a sign or assembly that is post-mounted...".
A23: 26B-EDT-01 | B23: APBP | D23: Matt Johnson | F23: X | H23: 77 | I23: 78 | L23: However, I find the word "placement" to be just as problematic as "installation." If "installation" means the act of installing, then "placement" means the act of placing. Essentially the same thing. What "placement" seems to mean in this context is the determination of the proposed location. I don't feel placement is an adqueate replacement for installation (which I agree is a problematic term).
A24: 26B-EDT-01 | B24: APBP | D24: Jeremy Chrzan | F24: X | H24: 77 | I24: 78 | L24: The text says that "installation" would be replaced by "placement"; however, it appears that some instances have used the word "location" which seems more appropriate and avoids the issue that "placement" is the "act of placing" just as "installation" is the "act of installing." Suggest eliminating "placement(s)" entirely and where appropriate use the terms "location(s)," "locate," or "located." For example, lines 672 and 939 already replaced "installations" with "locations" and it appears that many of the other uses of "placement" could be similarly edited.
A25: 26B-EDT-01 | B25: IBTTA | D25: Robert Weber | F25: X | H25: 77 | I25: 86 | L25: Recommend changing these to Shall statements to indicate that if this framework is adopted, it will be applied to the entire manual, without fail.
A26: 26B-EDT-01 | B26: AHUA | D26: Jonathan Upchurch | F26: X | H26: 86 | I26: 86 | L26: Suggest adding this statement at line 86. "There are about 21 locations where the word "installation" is currently used to mean the act of installing a device. At those locations the word "installation" is not replaced; those locations are not shown in this proposal."
A27: 26B-EDT-01 | B27: AASHTO | C27: Illinois | D27: Kristie Nyderek | F27: X | H27: 115 | L27: What about multi use paths that include pedestrian usage. Bikeway might be too exclusive. Pedestrians may be using facilities off the roadway network. Replace bikeway with something like facility designated for non vehicular traffic?
A28: 26B-EDT-01 | B28: ITE | D28: Roxane Mukai | H28: 119 | I28: 120 | L28: If I am understanding correctly - the new defintion of "application" now includes selection, placement and operation so to reduce content size item C should not just replace "use, installation" with "selection, placement" it should replace "use, installation and operation" with "application".
A29: 26B-EDT-01 | B29: ITE | D29: Namoo Han | F29: X | H29: 119 | I29: 123 | L29: Agree that installation is overused and can be confusing. However, I don't agree that 'Placement' is a better word. To me, 'placement' doesn't cover aspects such as sign height (even though I see that sign height is covered by 'placement' in Table 1D-X). Perhaps there is a better word. Implementation?
A30: 26B-EDT-01 | B30: ITSA | D30: Paul Carlson | F30: X | H30: 123 | I30: 124 | L30: Should "maintenance and removal" be included in the first sentence of 02a?
A31: 26B-EDT-01 | B31: AASHTO | C31: Idaho | D31: Ryan Lancaster | H31: 136 | I31: 142 | L31: A good definition, but the first sentence is too wordy. - The first construct that drew my attention was "and/or." I use a style guide that recommends writing "A, B, or both," not "A and/or B." In this case it seems sufficient to only use "or." - Signs certainly regulate, warn, or guide, but can this be said for other TCDs? I suppose it's true enough. - I don't think we can universally say that TCDs "promote safety and mobility." Many TCDs are agnostic to "safety" and many others inhibit "mobility." - For these reasons I recommend terminating the sentence after "...a specific location." Keep the first sentence focused on use of TCDs at a location without the qualifiers. The second sentence seems fine.
A32: 26B-EDT-01 | B32: AASHTO | C32: Virginia | D32: Mark Cole | H32: 136 | I32: 142 | L32: Consider further clarifying the intended meaning and scope of the proposed definition of “Application.” The proposed definition appears narrower than some existing uses of “application” in the MUTCD, including “new application of an existing traffic control device,” which is tied to experimentation requirements. Because the proposal would approve the new definition before reviewing each existing use of the term, it is difficult to fully understand the implications of the proposed definition. Consider reviewing the existing uses of “application” concurrently with development of the definition to ensure the definition is appropriate before it is finalized.
A33: 26B-EDT-01 | B33: AASHTO | C33: Iowa | D33: Chris Poole | H33: 136 | I33: 142 | L33: Broad umbrella that includes selection, placement, and operation. Because it includes these other defined terms, it risks circularity if those terms refer back to “application.” Possible change: "The use of one or more traffic control devices at a specific location to regulate, warn, and/or guide road users. It encompasses determining which devices are appropriate, where they should be placed, and, when applicable, how they should operate."
A34: 26B-EDT-01 | B34: ITE | D34: Stephen Lewis | F34: X | H34: 136 | I34: 142 | L34: Recommend revising the proposed definition of “Application” to avoid limiting the term exclusively to a “specific location” and to avoid implying that every application necessarily includes selection, placement, and operation. Suggested wording: Application, in regard to traffic control devices: The use of one or more traffic control devices, generally or at a specific location or under specified conditions, to regulate, warn, or guide road users. Application includes selection and, as applicable, placement and operation of the device or devices.
A35: 26B-EDT-01 | B35: HFR | D35: Erin Kissner | H35: 136 | I35: 142 | L35: The proposed definition of “Application” appears narrower than some existing uses of the term in the MUTCD. For example, the MUTCD refers to a “new application of an existing traffic control device” in the context of experimentation, which may not be fully captured by the proposed definition. Consider reviewing existing uses of the term before finalizing the definition to ensure consistency and avoid unintended implications.
A36: 26B-EDT-01 | B36: ITE | D36: Michael Cynecki | F36: X | H36: 138 | I36: 139 | L36: I generally support this proposal, but have some recommended changes. I Recommend deletion of the words "to promote safety and mobility". Phrase not needed and rarely used in the Manual except in Support statements
A37: 26B-EDT-01 | B37: ITE | D37: Adam Greenstein | H37: 138 | I37: 139 | L37: Remove "to promote safety and mobility". This is the goal of providing TCDs, but the "Application" should merely discuss the application process.
A38: 26B-EDT-01 | B38: AASHTO | C38: Mississippi | D38: James Sullivan | F38: X | H38: 139 | I38: 139 | L38: Consider revising to read, "…the use of one or more traffic control devices at a specific location to regulate, warn, and/or guide road users to promote enhanced safety and improved mobility. Application…"
A39: 26B-EDT-01 | B39: ITE | D39: Nathan Conard | F39: X | H39: 139 | I39: 140 | L39: Suggest re-wording sentence beginning with "Application of traffic control devices…" to read "Application of traffic control devices includes selection, placement, and, when applicable, operation."
A40: 26B-EDT-01 | B40: ITE | D40: Stephen Lewis | H40: 141 | I40: 142 | L40: Delete the final parenthetical list, “signs, markings, signals, other devices.” The definition already applies to traffic control devices, and the additional list is unnecessary.
A41: 26B-EDT-01 | B41: ITE | D41: James Robertson | F41: X | H41: 146 | I41: 147 | L41: the word "use" on line 146 needs to be replaced with the word "selection" in order to be consistent with the recommend change on line 119 to 120.
A42: 26B-EDT-01 | B42: ITE | D42: James Robertson | H42: 155 | I42: 156 | L42: the word "use" on line 155 needs to be replaced with the word "selection" in order to be consistent with the recommend change on line 119 to 120.
...

Sheet 26B-GMI-01
A1: A | B1: B | C1: C | D1: D | E1: E | F1: F | G1: G | H1: H | I1: I | J1: J | K1: K | L1: L | M1: M
H2: If Concur in Part, or Do Not Concur, please identify the line number(s), Table Number, or Figure Number and enter comment
A3: ID of Technical Committee Recommendation | B3: Name of Sponsoring Organization | C3: If from AASHTO, name of responding state | D3: Name of responding individual | E3: Fully Concur | F3: Concur in Part | G3: Do Not Concur | H3: Line Number start | I3: Line Number end | J3: Figure Number | K3: Table Number | L3: Comment | M3: TC / JTF Disposition of Comment
A6: 26B-GMI-01 | B6: ASCE | D6: Richard Ryabik | F6: X | H6: General | J6: 2E-53. | L6: This sign is missing it's sign designation number E3-2, please verify
A7: 26B-GMI-01 | B7: ITE | D7: Amitai Lipton | G7: X | H7: 27 | I7: 35 | L7: My understanding of 2E.51.04-05 (lines 28-29) is that the maximum is either (a) one destination taking up 3 lines; or (b) two destinations, one of which fits on 1 line, and the other uses 2 lines. As such, I feel this proposal is inconsistent with the intent of these paragraphs. I would suggest tabling this proposal, and if needed, introducing a new proposal that rewrites the section(s) with clear and unambiguous language.
A8: 26B-GMI-01 | B8: AASHTO | C8: Idaho | D8: Ryan Lancaster | F8: X | H8: 72 | I8: 83 | L8: Make new paragraphs for "destinations" and "traffic generator destinations." Also, rather than listing "standard interchange signing destinations" in this section, perhaps refer to Sec. 2E.15 which provides the clearest direction for "standard interchange signing destinations." Or perhaps there should be a separate section that directly addresses what destinations are appropriate for what guide signs.
A9: 26B-GMI-01 | B9: AASHTO | C9: Minnesota | D9: Brian Sorenson | F9: X | H9: 73 | I9: 73 | L9: Replace "other than places displayed on the standard interchange signing" with "that are not displayed on interchange guide signs." This is more concise and will be consistent with MnDOT's other comments.
A10: 26B-GMI-01 | B10: AASHTO | C10: Minnesota | D10: Brian Sorenson | H10: 75 | I10: 83 | L10: End the first paragraph on Line 75. Start a new paragraph by adding a sentence: "Supplemental guide sign destinations may include city names, street names, traffic generators or other destinations of significant interest to road users." Then add lines 76-83 as part of the same paragraph following this sentence. This revision helps establish that there are multiple types of supplemental destinations, including traffic generators. This context is important because new language has been added addressing traffic generators, but there is currently limited support or explanation regarding other types of supplemental destinations.
A11: 26B-GMI-01 | B11: AASHTO | C11: New Hampshire | D11: William Lambert | G11: X | H11: 77 | I11: 83 | L11: Listing this material in the MUTCD is redundant to the AASHTO guideline cited in this paragraph.
A12: 26B-GMI-01 | B12: NACTO | D12: Elijah Ferrari | G12: X | H12: 77 | I12: 83 | L12: Some of these seem major and should be on the standard interchange signing. SOme of these should also be brown background so is this the correct place for them?
A13: 26B-GMI-01 | B13: AASHTO | C13: Minnesota | D13: Brian Sorenson | H13: 78 | I13: 78 | L13: Recommend replacing "standard interchange signing destinations" with "interchange guide sign destinations". This is consistent with 2E.21 and avoids using the word "standard" which may not be appropriate in the context of these types of destinations which are chosen through standards/guidance/support in Section 2E.07 as well as other methods.
A14: 26B-GMI-01 | B14: AHUA | D14: Randy Dittberner | F14: X | H14: 78 | I14: 79 | L14: I suggest omitting "but are not limited to." The word "include" already means that the list that follows is not necessarily exhaustive. In this case, I don't think there are too many other standard destinations besides place names and street names, so I don't think it's essential to use the redundant phrase "not limited to."
A15: 26B-GMI-01 | B15: AASHTO | C15: Minnesota | D15: Brian Sorenson | H15: 79 | I15: 79 | L15: Replace "Advance guide signs" with "Interchange Advance guide signs" to be consistent with Section 2E.23. In "Exit direction signs", capitalize "Direction".
A16: 26B-GMI-01 | B16: AHUA | D16: Randy Dittberner | H16: 79 | I16: 83 | L16: I think the last sentence in this paragraph should clarify that a destination is only a "traffic generator destination" if it is not displayed on Interchange Advance guide and Exit Direction signs. I think this is needed for consistency with para. 11.
A17: 26B-GMI-01 | B17: AHUA | D17: Randy Dittberner | H17: 79 | L17: I suggest omitting "on Advance guide signs and Exit direction signs." Standard destinations meet the definition proposed even when they are not used on Advance guide or Exit Direction signs. However, if this comment is not accepted by GMI, then I suggest using the same terminology and capitalization to refer to these signs as is used elsewhere in the MUTCD: "Interchange Advance guide signs" and "Exit Direction signs".
A18: 26B-GMI-01 | B18: ITE | D18: Adam Greenstein | F18: X | H18: 82 | I18: 82 | L18: Capitalize "Supplemental Guide Signs".
A19: 26B-GMI-01 | B19: AASHTO | C19: Idaho | D19: Ryan Lancaster | H19: 88 | I19: 94 | L19: - Make the moved sentence it's own paragraph. The sentence stands apart from the rest of Par. 3. - The moved sentence is the most important part of Par. 3. Moving it to the end deemphasizes the priority of the sentence. Further, I'm not a fan of the various guidance statements like Par. 3 that are sprinkled throughout the GMI chapers of Part 2. These paragraphs are FHWA pushing the work off to the states and are potentially detrimental to uniformity and consistency.
A20: 26B-GMI-01 | B20: NACTO | D20: Elijah Ferrari | H20: 96 | I20: 117 | L20: Why 2 max? Canada allows 3: See AC-MUTCD 4.2.4.1 It's hard to justify 2 max when a blue service sign can have 6 fast-food places in full graphics and additional service signs as needed. 3 should be allowed and up to state or local policy to make it 2 max. For urban areas, with the guidance on line 96 to only have one supplemental guide sign and then only 2 max places on that sign, this is not realistic. Recommend deleting Line 96 and changing line 114 to 3. Research not found that 3 vs 2 destinations is distracting to drivers.
A21: 26B-GMI-01 | B21: AASHTO | C21: Virginia | D21: Mark Cole | F21: X | H21: 97 | I21: 100 | L21: Consider revising Paragraph 5 to more clearly convey that “destination names” in this provision may include traffic-generator destinations and/or standard interchange signing destinations. While the proposed language in lines 77–83 helps clarify the distinction between these two types of destinations, some ambiguity remains between the Guidance in lines 97–99 and the Standard in lines 114–117. The circularity noted in the proposal discussion is still somewhat apparent, and additional clarification in Paragraph 5 would help resolve it.
A22: 26B-GMI-01 | B22: ITE | D22: Scott Kuznicki | F22: X | H22: 97 | I22: 100 | L22: In practice, numerous examples exist of Supplemental Guide Signs with more than two destinations and some with four, five, or even six lines of text besides the action lines. The arrangment and number of legend units matters more than the number of lines alone. Given this reality, practitioners would benefit from supplemental information concerning the use of partial-width and full-width horizontal separators and the importanc of dividing lines of text to improve the target value of specific elements of the destination name. Consider that a taller and narrower sign might be easier to read quickly than a wider sign with fewer lines of text; place names such as "Desert Ridge Museum of Contemporary Art" could be devided onto two lines or three lines and the choice of line breaks changes the readability of the legend groups.
A23: 26B-GMI-01 | B23: HFR | D23: Erin Kissner | F23: X | H23: 97 | I23: 100 | L23: Think that language in Paragraph 05 could further clarify/specify that the two destinations may include traffic-generator destinations and/or standard interchange signing destinations, assuming this is the correct interpretation. There still seems to be some ambiguity between paragraphs 05 and 08.
A24: 26B-GMI-01 | B24: AASHTO | C24: Illinois | D24: Kristie Nyderek | F24: X | H24: 97 | I24: 114 | L24: Line 97 "A Supplemental guide sign should display no more than two destinations and no more than three line of destination names." Why does "….no more than two desinations…" need to be here when it is already in the standard in Line 114? I have always thought the layout was a little weird. Why not have the Standard first, and then the guidance? But it seems redundant to have the maximum allowable listed twice. Suggested revision. "A Supplemental guide sign should have no more than three lines of destination names."
A25: 26B-GMI-01 | B25: AASHTO | C25: Maryland | D25: Stephen Hollie | F25: X | H25: 97 | I25: 117 | L25: Against the removal of "and four from a single interchange along the main roadway" from Paragraph 08. Existing conditions that were implemented under undesirable circumstances have resulted in more than two supplemental destinations being signed. The shall condition is still needed to assist State and Local Transportation Officials in rejecting excessive requests in the future. Check Paragraphs 05 and 08 for seemingly conflicting statements (Should versus Shall).
A26: 26B-GMI-01 | B26: ASCE | D26: Tom Heydel | F26: X | H26: 100 | I26: 100 | L26: retain this sentence because paragraph 07 and 09 elude to it but not as clearly as this sentence reads. The sign needs to be separate from the primary guide signs
A27: 26B-GMI-01 | B27: AASHTO | C27: Idaho | D27: Ryan Lancaster | H27: 103 | I27: 106 | L27: Two or more Interchange Advance guide signs (IAGS) is the norm, and one is the exception (minor IC, closely spaced ICs). Perhaps rework Par. 6 so that it doesn't sound like fewer than two IAGS is normal and then create a new option from the one IAGS sentence to modify the guidance.
A28: 26B-GMI-01 | B28: ITE | D28: Eagan L. Foster | F28: X | H28: 110 | I28: 110 | L28: Consider replacing the word "detract" with the word "distract"... which seem more clear about the meaning intended.
A29: 26B-GMI-01 | B29: AASHTO | C29: Idaho | D29: Ryan Lancaster | H29: 110 | I29: 111 | L29: A supplemental guide sign IS an "interchange guide sign." Perhaps reword to state that a suplemental guide sign should not detract from an Interchange Advance guide sign. But taking this further, the guidance in Par. 7 is vague and subjective. Paragraphs 6 and 9 directly address the topic. Perhaps Par. 7 should be deleted in its entirety and Par. 9 be relocated prior to Par. 6.
A30: 26B-GMI-01 | B30: AASHTO | C30: New Hampshire | D30: William Lambert | H30: 113 | I30: 117 | L30: While not necessarily relevant to this proposal, I object to Standard language restricting the use of Supplemental Guide Signs, either for number of signs, or number of destinations. As a traffic engineer, I would prefer to limit the number of such signs; however, those decisions are often made by elected officials and others, despite objections by the state's traffic engineer. I am not aware of any documented correlation between selective sign clutter and crashes or injuries. Without that correlation, the MUTCD should not make a state non-compliant simply because elected officials demanded a sign. This paragraph should be no more than Guidance.
A31: 26B-GMI-01 | B31: AASHTO | C31: Kentucky | D31: Jeff Wolfe | E31: X | H31: 114 | I31: 114 | L31: Editorial comment - there appears to be a dash between "generator" and "destinations".
A32: 26B-GMI-01 | B32: ITE | D32: Nathan Conard | F32: X | H32: 114 | I32: 114 | L32: There appears to be strikethrough text formatting in the space between the words "generator" and "destinations" in this line that needs to be removed.
A33: 26B-GMI-01 | B33: NACTO | D33: Cary Bearn | E33: X | H33: 114 | I33: 114 | L33: For added flexibility, revise to allow up to three supplemental traffic generator designations (instead of the current max of two)
A34: 26B-GMI-01 | B34: ITE | D34: Stephen Lewis | F34: X | H34: 114 | I34: 117 | L34: Recommend explicitly stating that traffic-generator destinations count toward, and are not additional to, the Paragraph 05 maximum. Suggested wording: “No more than two traffic-generator destinations shall be signed from a single interchange approach. Traffic-generator destinations shall be included within, and shall not be in addition to, the maximum number of destinations specified in Paragraph 05 of this Section.”
A35: 26B-GMI-01 | B35: AHUA | D35: Randy Dittberner | H35: 114 | L35: There appears to be a hyphen between "generator" and "destinations" that is not in the MUTCD.
A36: 26B-GMI-01 | B36: ITE | D36: Stephen Lewis | H36: 121 | I36: 122 | L36: Recommend revising Paragraph 09 to regulate both assembly and location. Suggested wording: "Supplemental guide signs shall not be placed on the same assembly or at the same location as Interchange Advance…"
A37: 26B-GMI-01 | B37: AASHTO | C37: Utah | D37: David Bezzant | E37: X | L37: Additional examples would help, but need not be a condition of concurrence.
A38: 26B-GMI-01 | B38: AASHTO | C38: Georgia | D38: John Hibbard | E38: X | L38: ok
A39: 26B-GMI-01 | B39: AASHTO | C39: Connecticut | D39: Gregory Palmer | E39: X
A40: 26B-GMI-01 | B40: AASHTO | C40: DC | D40: Zhibo Zhang | E40: X
A41: 26B-GMI-01 | B41: AASHTO | C41: Delaware | D41: Peter Haag | E41: X
A42: 26B-GMI-01 | B42: AASHTO | C42: Indiana | D42: Dave Boruff | E42: X
...

Sheet 26B-GMI-02
A1: A | B1: B | C1: C | D1: D | E1: E | F1: F | G1: G | H1: H | I1: I | J1: J | K1: K | L1: L | M1: M
H2: If Concur in Part, or Do Not Concur, please identify the line number(s), Table Number, or Figure Number and enter comment
A3: ID of Technical Committee Recommendation | B3: Name of Sponsoring Organization | C3: If from AASHTO, name of responding state | D3: Name of responding individual | E3: Fully Concur | F3: Concur in Part | G3: Do Not Concur | H3: Line Number start | I3: Line Number end | J3: Figure Number | K3: Table Number | L3: Comment | M3: TC / JTF Disposition of Comment
A6: 26B-GMI-02 | B6: AASHTO | C6: Idaho | D6: Ryan Lancaster | F6: X | H6: General | L6: General: Good clean up, but keep going…
A7: 26B-GMI-02 | B7: AASHTO | C7: Minnesota | D7: Brian Sorenson | F7: X | H7: General | L7: MnDOT believe that Acknowledgement Signs and Plaques do not meet the MUTCD definition of a Traffic Control Device and that the MUTCD overreaches on the requirements and recommendations for these signs. Section 1C.02, Par. 03, #273 defines a Traffic Control Device as: "all signs, signals, markings, channelization devices, or other devices that use colors, shapes, symbols, words, sounds, and/or tactile information for the primary purpose of communicating a regulatory, warning, or guidance message to road users on a street, highway, pedestrian facility, bikeway, pathway, or site roadway open to public travel." The MUTCD is a manual intended to establish uniform national criteria for the use of traffic control devices, not other types of devices that may be present along the roadway. Acknowledgment Signs and Plaques do not convey regulatory, warning, or guidance information to road users, nor do they provide navigational or operational benefit. Their function is recognition of sponsors or volunteer groups. Recommend this proposal be expanded to reduce the requirements and recommendations for Acknowledgement Signs and Plaques, specifically Section 2H.13, Par 16.
A8: 26B-GMI-02 | B8: AASHTO | C8: New Hampshire | D8: William Lambert | G8: X | H8: General
A9: 26B-GMI-02 | B9: AASHTO | C9: Idaho | D9: Ryan Lancaster | H9: 26 | I9: 30 | L9: An interesting beginning volley. I'm not sure how much liability is associated with acknowledgment and TOD signs. They are mostly just an annoyance to traffic engineers…
A10: 26B-GMI-02 | B10: ITE | D10: Roxane Mukai | F10: X | H10: 57 | I10: 60 | L10: Under the impression that discontinuity of TTC was not the original issue. Acknowledgement (none-essential) signs after careful application of engineering judgement should be covered or removed if they distract from or are to closely spaced to critical signs needed for safe operations - TTC signs likely to be critical since roadway operations are in a none-standard condition.
A11: 26B-GMI-02 | B11: AHUA | D11: Jonathan Upchurch | F11: X | H11: 73 | I11: 73 | L11: Suggest revising to read, "The existing wording recommends TODS be located “at least 200 feet from….". As currently written the text might be misinterpreted to mean that TODS must be within 200 feet of other traffic control devices.
A12: 26B-GMI-02 | B12: ITE | D12: Eagan L. Foster | F12: X | H12: 99 | I12: 102 | L12: Create a definition in Part I of the MUTCD for "Acknowledgment Signs".
A13: 26B-GMI-02 | B13: AASHTO | C13: Minnesota | D13: Brian Sorenson | H13: 109 | I13: 110 | L13: Recommend removing Par. 3. We believe that a State or local highway agency that elects to have a sponsorship acknowledgement program should develop a policy. We believe that policy should include the items in Section 2H.13, Par 2 and provisions for regarding placement and design. Recommend incorporating placement and design of the signs into Paragraph 2 (Lines 104 to 107).
A14: 26B-GMI-02 | B14: AASHTO | C14: Minnesota | D14: Brian Sorenson | H14: 111 | I14: 114 | L14: Recommend replace with "Acknowledgement Signs and Plaques shall not interfere with traffic control devices."
